BEGIN:VCALENDAR
VERSION:2.0
PRODID:-//Living Freedom - ECPv6.15.20//NONSGML v1.0//EN
CALSCALE:GREGORIAN
METHOD:PUBLISH
X-ORIGINAL-URL:https://livingfreedom.org.uk
X-WR-CALDESC:Events for Living Freedom
REFRESH-INTERVAL;VALUE=DURATION:PT1H
X-Robots-Tag:noindex
X-PUBLISHED-TTL:PT1H
BEGIN:VTIMEZONE
TZID:Europe/London
BEGIN:DAYLIGHT
TZOFFSETFROM:+0000
TZOFFSETTO:+0100
TZNAME:BST
DTSTART:20210328T010000
END:DAYLIGHT
BEGIN:STANDARD
TZOFFSETFROM:+0100
TZOFFSETTO:+0000
TZNAME:GMT
DTSTART:20211031T010000
END:STANDARD
BEGIN:DAYLIGHT
TZOFFSETFROM:+0000
TZOFFSETTO:+0100
TZNAME:BST
DTSTART:20220327T010000
END:DAYLIGHT
BEGIN:STANDARD
TZOFFSETFROM:+0100
TZOFFSETTO:+0000
TZNAME:GMT
DTSTART:20221030T010000
END:STANDARD
BEGIN:DAYLIGHT
TZOFFSETFROM:+0000
TZOFFSETTO:+0100
TZNAME:BST
DTSTART:20230326T010000
END:DAYLIGHT
BEGIN:STANDARD
TZOFFSETFROM:+0100
TZOFFSETTO:+0000
TZNAME:GMT
DTSTART:20231029T010000
END:STANDARD
END:VTIMEZONE
BEGIN:VEVENT
DTSTART;TZID=Europe/London:20221215T190000
DTEND;TZID=Europe/London:20221215T220000
DTSTAMP:20260420T204851
CREATED:20230322T121856Z
LAST-MODIFIED:20231121T130440Z
UID:304-1671130800-1671141600@livingfreedom.org.uk
SUMMARY:Living Freedom Xmas Bash Balloon Debate
DESCRIPTION:On behalf of Living Freedom and Free Speech Champions\, we would like to invite you to join us for a drink\, some good company and a fun Xmas balloon debate. \nThis invitation only gathering will take place at the fabulous new Westminster home of UnHerd. Join us for drinks at the pay bar from 7pm. \nWhat: Living Freedom Xmas Balloon Debate\nWhen: Thursday 15 December 2022\, 7:00pm\nWhere: UnHerd\, 6 Old Queen Street\, Westminster\, London\,SW1H 9HP\nEntry strictly by RSVP: alastair@ideasmatter.org.uk \nWhat is the greatest representation of freedom in culture? \nA panel of six valiant freedom lovers will seek to convince you of their choice\, selected from cultural worlds\, whether art or the classics\, comedy or film\, literature or music. \nEach contestant will have just three minutes to present their case\, followed by a round of questions from the audience. Then there is a vote\, and the top three will be given an additional one minute to convince you to back their choice. \nWhich cultural representation of freedom – and its defender – deserves to stay in the balloon? You decide! \nOur brilliant panel comprises: \n\nCharlie Bentley-Astor freelance writer; theatre director; English undergraduate. Charlie is defending the Supermarine Spitfire.\nNick Dixon comedian; presenter\, GB News; host\, The Weekly Sceptic; co-host\, The Podcast of the Lotus Eaters. Nick is defending Brass Eye.\nRalph Leonard writer and commentator; contributor\, Areo\, author\, Letter on Liberty: Unshackling Intimacy. Ralph is defending Vasily Grossman’s Life and Fate.\nRob Lownie editorial trainee\, UnHerd; founding member\, Free Speech Champions; contributor\, Free Speech: defending the fundamental liberal value. Rob is defending Team America: World Police.\nDr Maren Thom lecturer; writer; acting and vocal trainer; contributor\, The Conformist Rebellion. Maren is defending Stanley Kubrick’s Spartacus\nEmma Webb director\, Common Sense Society\, UK branch; host\, Newspeak; commentator; writer; co-founder\, Save Our Statues. Emma is defending the cross\n\nHost: Alastair Donald convenor\, Living Freedom \nEntry is free\, but space is limited. So get your invitation now by replying to this email or emailing Alastair: alastair@ideasmatter.org.uk
URL:https://livingfreedom.org.uk/event/living-freedom-xmas-bash-balloon-debate
ATTACH;FMTTYPE=image/jpeg:https://livingfreedom.org.uk/wp-content/uploads/2023/03/xmas-balloon-debate-for-event-page-768x384-1.jpg
END:VEVENT
END:VCALENDAR